BEGIN:VCALENDAR
VERSION:2.0
PRODID:-//ShulCloud.com//ACT Jewish Community Inc Calendar//EN
CALSCALE:GREGORIAN
X-WR-CALNAME:ACT Jewish Community Inc Calendar
X-WR-TIMEZONE;VALUE=TEXT:Australia/Sydney
METHOD:PUBLISH
www.actjc.org.auDTSTAMP:20210225T010126
BEGIN:VEVENT
UID:E2153362@shulcloud.com
SUMMARY:Visit to NLA
DTSTART:20210228T073000Z
DTEND:20210228T083000Z
END:VEVENT
END:VCALENDAR
