BEGIN:VCALENDAR
VERSION:2.0
PRODID:-//ShulCloud.com//ACT Jewish Community Inc Calendar//EN
CALSCALE:GREGORIAN
X-WR-CALNAME:ACT Jewish Community Inc Calendar
X-WR-TIMEZONE;VALUE=TEXT:Australia/Sydney
METHOD:PUBLISH
www.actjc.org.auDTSTAMP:20210225T010147
BEGIN:VEVENT
UID:E2158630@shulcloud.com
SUMMARY:AAJS: In Conversation
DTSTART:20210301T070000Z
DTEND:20210301T080000Z
END:VEVENT
END:VCALENDAR
