BEGIN:VCALENDAR
VERSION:2.0
PRODID:-//ShulCloud.com//ACT Jewish Community Inc Calendar//EN
CALSCALE:GREGORIAN
X-WR-CALNAME:ACT Jewish Community Inc Calendar
X-WR-TIMEZONE;VALUE=TEXT:Australia/Sydney
METHOD:PUBLISH
www.actjc.org.auDTSTAMP:20210225T010154
BEGIN:VEVENT
UID:E2106474@shulcloud.com
SUMMARY:AJHS Presentation
DTSTART:20210321T023000Z
DTEND:20210321T040000Z
END:VEVENT
END:VCALENDAR
