BEGIN:VCALENDAR
VERSION:2.0
PRODID:-//ShulCloud.com//ACT Jewish Community Inc Calendar//EN
CALSCALE:GREGORIAN
X-WR-CALNAME:ACT Jewish Community Inc Calendar
X-WR-TIMEZONE;VALUE=TEXT:Australia/Sydney
METHOD:PUBLISH
www.actjc.org.auDTSTAMP:20210225T010112
BEGIN:VEVENT
UID:E2156198@shulcloud.com
SUMMARY:Family Purim Party
DTSTART:20210226T050000Z
DTEND:20210226T073000Z
END:VEVENT
END:VCALENDAR
