BEGIN:VCALENDAR
VERSION:2.0
PRODID:-//ShulCloud.com//ACT Jewish Community Inc Calendar//EN
CALSCALE:GREGORIAN
X-WR-CALNAME:ACT Jewish Community Inc Calendar
X-WR-TIMEZONE;VALUE=TEXT:Australia/Sydney
METHOD:PUBLISH
www.actjc.org.auDTSTAMP:20210225T010120
BEGIN:VEVENT
UID:E2153365@shulcloud.com
SUMMARY:AAJS Conference
DTSTART:20210227T213000Z
DTEND:20210228T070000Z
END:VEVENT
BEGIN:VEVENT
UID:E2153366@shulcloud.com
SUMMARY:AAJS Conference
DTSTART:20210228T213000Z
DTEND:20210301T070000Z
END:VEVENT
END:VCALENDAR
