BEGIN:VCALENDAR
VERSION:2.0
PRODID:-//ShulCloud.com//ACT Jewish Community Inc Calendar//EN
CALSCALE:GREGORIAN
X-WR-CALNAME:ACT Jewish Community Inc Calendar
X-WR-TIMEZONE;VALUE=TEXT:Australia/Sydney
METHOD:PUBLISH
www.actjc.org.auDTSTAMP:20210225T010105
BEGIN:VEVENT
UID:E2160180@shulcloud.com
SUMMARY:Mincha & Maariv & Megilla Reading
DTSTART:20210225T084500Z
DTEND:20210225T100000Z
END:VEVENT
END:VCALENDAR
