BEGIN:VCALENDAR
VERSION:2.0
PRODID:-//ShulCloud.com//ACT Jewish Community Inc Calendar//EN
CALSCALE:GREGORIAN
X-WR-CALNAME:ACT Jewish Community Inc Calendar
X-WR-TIMEZONE;VALUE=TEXT:Australia/Sydney
METHOD:PUBLISH
www.actjc.org.auDTSTAMP:20210225T010058
BEGIN:VEVENT
UID:E1960225@shulcloud.com
SUMMARY:R' Robuck visit
DTSTART:20200828T040000Z
DTEND:20200830T020000Z
END:VEVENT
BEGIN:VEVENT
UID:E1960226@shulcloud.com
SUMMARY:R' Robuck visit
DTSTART:20200918T040000Z
DTEND:20200920T020000Z
END:VEVENT
BEGIN:VEVENT
UID:E1960227@shulcloud.com
SUMMARY:R' Robuck visit
DTSTART:20200927T040000Z
DTEND:20200929T070000Z
END:VEVENT
BEGIN:VEVENT
UID:E1960228@shulcloud.com
SUMMARY:R' Robuck visit
DTSTART:20201029T030000Z
DTEND:20201101T020000Z
END:VEVENT
BEGIN:VEVENT
UID:E1960229@shulcloud.com
SUMMARY:R' Robuck visit
DTSTART:20201127T030000Z
DTEND:20201129T030000Z
END:VEVENT
BEGIN:VEVENT
UID:E1960230@shulcloud.com
SUMMARY:R' Robuck visit
DTSTART:20210129T030000Z
DTEND:20210131T030000Z
END:VEVENT
BEGIN:VEVENT
UID:E1960231@shulcloud.com
SUMMARY:R' Robuck visit
DTSTART:20210225T030000Z
DTEND:20210228T030000Z
END:VEVENT
BEGIN:VEVENT
UID:E1960232@shulcloud.com
SUMMARY:R' Robuck visit
DTSTART:20210319T030000Z
DTEND:20210321T030000Z
END:VEVENT
BEGIN:VEVENT
UID:E1960233@shulcloud.com
SUMMARY:R' Robuck visit
DTSTART:20210415T070000Z
DTEND:20210418T040000Z
END:VEVENT
BEGIN:VEVENT
UID:E1960234@shulcloud.com
SUMMARY:R' Robuck visit
DTSTART:20210514T040000Z
DTEND:20210517T040000Z
END:VEVENT
BEGIN:VEVENT
UID:E1960235@shulcloud.com
SUMMARY:R' Robuck visit
DTSTART:20210604T040000Z
DTEND:20210606T040000Z
END:VEVENT
END:VCALENDAR
